BEGIN:VCALENDAR
VERSION:2.0
PRODID:-//Veilinghuizen.nl - ECPv6.15.15//NONSGML v1.0//EN
CALSCALE:GREGORIAN
METHOD:PUBLISH
X-WR-CALNAME:Veilinghuizen.nl
X-ORIGINAL-URL:https://veilinghuizen.nl
X-WR-CALDESC:Evenementen voor Veilinghuizen.nl
REFRESH-INTERVAL;VALUE=DURATION:PT1H
X-Robots-Tag:noindex
X-PUBLISHED-TTL:PT1H
BEGIN:VTIMEZONE
TZID:Europe/Paris
BEGIN:DAYLIGHT
TZOFFSETFROM:+0100
TZOFFSETTO:+0200
TZNAME:CEST
DTSTART:20250330T010000
END:DAYLIGHT
BEGIN:STANDARD
TZOFFSETFROM:+0200
TZOFFSETTO:+0100
TZNAME:CET
DTSTART:20251026T010000
END:STANDARD
BEGIN:DAYLIGHT
TZOFFSETFROM:+0100
TZOFFSETTO:+0200
TZNAME:CEST
DTSTART:20260329T010000
END:DAYLIGHT
BEGIN:STANDARD
TZOFFSETFROM:+0200
TZOFFSETTO:+0100
TZNAME:CET
DTSTART:20261025T010000
END:STANDARD
BEGIN:DAYLIGHT
TZOFFSETFROM:+0100
TZOFFSETTO:+0200
TZNAME:CEST
DTSTART:20270328T010000
END:DAYLIGHT
BEGIN:STANDARD
TZOFFSETFROM:+0200
TZOFFSETTO:+0100
TZNAME:CET
DTSTART:20271031T010000
END:STANDARD
END:VTIMEZONE
BEGIN:VEVENT
DTSTART;VALUE=DATE:20260426
DTEND;VALUE=DATE:20260427
DTSTAMP:20260426T024103
CREATED:20260224T125433Z
LAST-MODIFIED:20260224T125433Z
UID:9929-1777161600-1777247999@veilinghuizen.nl
SUMMARY:Veilinghuis Peerdeman
DESCRIPTION:Kunst\, antiek & design veiling \nVeilingdagen\n26 april 2026 | timed online  \nKijkdagen\n17\, 18\, 19\, 25 & 26 april 2026 van 10.00 – 17.00 uur \nCatalogus online 2 weken voor veiling
URL:https://veilinghuizen.nl/veilingagenda/veilinghuis-peerdeman-56/
LOCATION:Veilinghuis Peerdeman\, Tennesseedreef 18-20\, Utrecht\, Utrecht\, 3565 CJ\, Nederland
END:VEVENT
END:VCALENDAR