BEGIN:VCALENDAR
VERSION:2.0
PRODID:-//Veilinghuizen.nl - ECPv6.15.15//NONSGML v1.0//EN
CALSCALE:GREGORIAN
METHOD:PUBLISH
X-WR-CALNAME:Veilinghuizen.nl
X-ORIGINAL-URL:https://veilinghuizen.nl
X-WR-CALDESC:Evenementen voor Veilinghuizen.nl
REFRESH-INTERVAL;VALUE=DURATION:PT1H
X-Robots-Tag:noindex
X-PUBLISHED-TTL:PT1H
BEGIN:VTIMEZONE
TZID:Europe/Paris
BEGIN:DAYLIGHT
TZOFFSETFROM:+0100
TZOFFSETTO:+0200
TZNAME:CEST
DTSTART:20210328T010000
END:DAYLIGHT
BEGIN:STANDARD
TZOFFSETFROM:+0200
TZOFFSETTO:+0100
TZNAME:CET
DTSTART:20211031T010000
END:STANDARD
BEGIN:DAYLIGHT
TZOFFSETFROM:+0100
TZOFFSETTO:+0200
TZNAME:CEST
DTSTART:20220327T010000
END:DAYLIGHT
BEGIN:STANDARD
TZOFFSETFROM:+0200
TZOFFSETTO:+0100
TZNAME:CET
DTSTART:20221030T010000
END:STANDARD
BEGIN:DAYLIGHT
TZOFFSETFROM:+0100
TZOFFSETTO:+0200
TZNAME:CEST
DTSTART:20230326T010000
END:DAYLIGHT
BEGIN:STANDARD
TZOFFSETFROM:+0200
TZOFFSETTO:+0100
TZNAME:CET
DTSTART:20231029T010000
END:STANDARD
END:VTIMEZONE
BEGIN:VEVENT
DTSTART;VALUE=DATE:20220222
DTEND;VALUE=DATE:20220309
DTSTAMP:20260422T221855
CREATED:20211214T102419Z
LAST-MODIFIED:20211214T102419Z
UID:6830-1645488000-1646783999@veilinghuizen.nl
SUMMARY:Venduehuis der Notarissen
DESCRIPTION:Collector’s choice: European Interiors & Asian Arts \nVeilingdagen\nOnline Only | 22 februari – 8 maart 2022 \nAfloop Online Only veiling: 8 maart 2022 vanaf 20:00\, 15 lots per 3 minuten.  \nKijkdagen\nVoor deze Online Only veiling worden geen kijkdagen georganiseerd. \nInbrengen voor deze veiling is mogelijk tot begin februari 2022\nOnline catalogus beschikbaar vanaf 22 februari 2022
URL:https://veilinghuizen.nl/veilingagenda/venduehuis-der-notarissen-58/
LOCATION:Venduehuis der Notarissen\, Nobelstraat 5\, Den Haag\, Zuid-Holland\, 2513 BC\, Nederland
END:VEVENT
BEGIN:VEVENT
DTSTART;VALUE=DATE:20220228
DTEND;VALUE=DATE:20220304
DTSTAMP:20260422T221855
CREATED:20220214T095850Z
LAST-MODIFIED:20220214T095850Z
UID:7006-1646006400-1646351999@veilinghuizen.nl
SUMMARY:Veilinghuis Van Spengen
DESCRIPTION:Online veiling februari/maart 2022 \nVeilingdagen\nAfloop online veilingen – 28 februari t/m 3 maart 2022 \nKijkdagen\n24 t/m 28 februari 2022 – op afspraak \nAfhalen aankopen op afspraak: 1 t/m 12 maart 2022
URL:https://veilinghuizen.nl/veilingagenda/veilinghuis-van-spengen-22/
LOCATION:Veilinghuis van Spengen\, Koninginneweg 25\, Haarlem\, Noord-Holland\, 1217KR\, Nederland
END:VEVENT
BEGIN:VEVENT
DTSTART;VALUE=DATE:20220301
DTEND;VALUE=DATE:20220304
DTSTAMP:20260422T221855
CREATED:20220214T101915Z
LAST-MODIFIED:20220214T101915Z
UID:7025-1646092800-1646351999@veilinghuizen.nl
SUMMARY:VeilingHuis De Jager Goes
DESCRIPTION:ART\, ANTIQUE & ASIAN AUCTION \nVeilingdagen\n1 t/m 3 maart 2022 vanaf 10.00 uur  \nKijkdagen\n14 t/m 18 februari 2022\n21 t/m 25 februari 2022\n27 & 28 februari 2022 \nAlleen op afspraak\, van 10.00 – 15.00 uur  \nOphalen\n5\, 10 en 11 maart 2022
URL:https://veilinghuizen.nl/veilingagenda/veilinghuis-de-jager-goes-24/
LOCATION:VeilingHuis De Jager Goes\, Livingstoneweg 18\, Goes\, Zeeland\, 4462GL\, Nederland
END:VEVENT
BEGIN:VEVENT
DTSTART;VALUE=DATE:20220308
DTEND;VALUE=DATE:20220323
DTSTAMP:20260422T221855
CREATED:20211214T102504Z
LAST-MODIFIED:20211214T102504Z
UID:6832-1646697600-1647993599@veilinghuizen.nl
SUMMARY:Venduehuis der Notarissen
DESCRIPTION:Silver\, Jewellery & Watches \nVeilingdagen\nOnline Only | 8 – 22 maart 2022 \nAfloop Online Only veiling: 22 maart 2022 vanaf 20:00\, 15 lots per 3 minuten.  \nKijkdagen\nVoor deze Online Only veiling worden geen kijkdagen georganiseerd. \nInbrengen voor deze veiling is mogelijk tot eind februari 2022\nOnline catalogus beschikbaar vanaf 8 maart 2022
URL:https://veilinghuizen.nl/veilingagenda/venduehuis-der-notarissen-59/
LOCATION:Venduehuis der Notarissen\, Nobelstraat 5\, Den Haag\, Zuid-Holland\, 2513 BC\, Nederland
END:VEVENT
BEGIN:VEVENT
DTSTART;VALUE=DATE:20220309
DTEND;VALUE=DATE:20220324
DTSTAMP:20260422T221855
CREATED:20220322T124941Z
LAST-MODIFIED:20220322T124941Z
UID:7128-1646784000-1648079999@veilinghuizen.nl
SUMMARY:BVA Auctions /ART
DESCRIPTION:Kunst en schilderijen (Domeinen) \nVeilindagen\n9 maart 2022 vanaf 17.00 uur t/m 23 maart 2022 tot 16.00 uur \nKijkdagen\n17 maart 2022 van 9:00 tot 10:00 uur \nDe verkavelde goederen in deze veiling zijn mogelijk gebruikt. Wij adviseren je van de kijkdag gebruik te maken. \nOphaaldag\n31 maart 2022 van 10:30 tot 13:00 uur.
URL:https://veilinghuizen.nl/veilingagenda/bva-auctions-art-2/
LOCATION:BVA Auctions /ART\, Kryptonweg 8\, Amersfoort\, Utrecht\, 3812 RZ\, Nederland
END:VEVENT
BEGIN:VEVENT
DTSTART;VALUE=DATE:20220311
DTEND;VALUE=DATE:20220315
DTSTAMP:20260422T221855
CREATED:20210614T081529Z
LAST-MODIFIED:20210614T081529Z
UID:6494-1646956800-1647302399@veilinghuizen.nl
SUMMARY:Venduehuis Dickhaut Maastricht
DESCRIPTION:Kunst- en Antiekveiling maart \n11-14 maart 2022 (t.t.v. TEFAF Maastricht)
URL:https://veilinghuizen.nl/veilingagenda/venduehuis-dickhaut-maastricht-23/
LOCATION:Venduehuis Dickhaut Maastricht\, Bredestraat 23A\, Maasticht\, Limburg\, 6211HA\, Nederland
END:VEVENT
BEGIN:VEVENT
DTSTART;VALUE=DATE:20220311
DTEND;VALUE=DATE:20220313
DTSTAMP:20260422T221855
CREATED:20211214T104327Z
LAST-MODIFIED:20211214T104327Z
UID:6848-1646956800-1647129599@veilinghuizen.nl
SUMMARY:Vendu Rotterdam
DESCRIPTION:Juwelen en Horloges veiling maart 2022 \nVeilingdag\n14 maart 2022 \nKijkdagen\n11 en 12 maart 2022
URL:https://veilinghuizen.nl/veilingagenda/vendu-rotterdam-16/
LOCATION:Vendu Rotterdam\, Kipstraat 54\, Rotterdam\, Zuid-Holland\, 3011 RT\, Nederland
END:VEVENT
BEGIN:VEVENT
DTSTART;VALUE=DATE:20220314
DTEND;VALUE=DATE:20220315
DTSTAMP:20260422T221855
CREATED:20220217T105214Z
LAST-MODIFIED:20220217T105214Z
UID:7049-1647216000-1647302399@veilinghuizen.nl
SUMMARY:Kunstveiling.nl
DESCRIPTION:Fotografie Special
URL:https://veilinghuizen.nl/veilingagenda/kunstveiling-nl-150/
LOCATION:Kunstveiling.nl\, Amsterdamseweg 136\, Amstelveen\, Noord-Holland\, 1182HJ\, Nederland
END:VEVENT
BEGIN:VEVENT
DTSTART;VALUE=DATE:20220317
DTEND;VALUE=DATE:20220320
DTSTAMP:20260422T221855
CREATED:20211014T081135Z
LAST-MODIFIED:20211014T081135Z
UID:6694-1647475200-1647734399@veilinghuizen.nl
SUMMARY:Corinphila Veilingen
DESCRIPTION:Voorjaarsveiling 2022 \nVeilingdagen\n17 t/m 19 maart 2022 \nInleveren mogelijk tot 31 december 2021
URL:https://veilinghuizen.nl/veilingagenda/corinphila-veilingen-17/
LOCATION:Corinphila Veilingen\, Mortelmolen 3\, Amstelveen\, Noord-Holland\, 1185 XV\, Nederland
END:VEVENT
BEGIN:VEVENT
DTSTART;VALUE=DATE:20220318
DTEND;VALUE=DATE:20220330
DTSTAMP:20260422T221855
CREATED:20220322T125029Z
LAST-MODIFIED:20220322T125029Z
UID:7131-1647561600-1648598399@veilinghuizen.nl
SUMMARY:BVA Auctions /ART
DESCRIPTION:Design\, tribal & moderne kunst uit diverse particuliere collecties \nVeilindagen\n18 maart 2022 van 12:00 uur t/m 29 maart 2022 tot 19.00 uur \nKijkdag\n24 maart 2022 van 10:30 tot 16:00 uur \nWij adviseren je van de kijkdag gebruik te maken. Houd de kavelnummer(s) bij de hand tijdens de kijkdag\, zonder kavelnummer(s) kunnen wij je niet van dienst zijn. \nOphaaldag\n31 maart 2022 van 10:30 tot 16:00 uur
URL:https://veilinghuizen.nl/veilingagenda/bva-auctions-art-3/
LOCATION:BVA Auctions /ART\, Kryptonweg 8\, Amersfoort\, Utrecht\, 3812 RZ\, Nederland
END:VEVENT
BEGIN:VEVENT
DTSTART;VALUE=DATE:20220318
DTEND;VALUE=DATE:20220331
DTSTAMP:20260422T221855
CREATED:20220322T125152Z
LAST-MODIFIED:20220322T125152Z
UID:7135-1647561600-1648684799@veilinghuizen.nl
SUMMARY:BVA Auctions /ART
DESCRIPTION:Algemene kunst en antiek uit particuliere collecties \nVeilingdagen\n18 maart 2022 van 12:00 uur t/m 30 maart 2022 tot 19.00 uur \nKijkdag\n24 maart 2022 van 10:30 tot 16:00 uur \nWij adviseren je van de kijkdag gebruik te maken. Houd de kavelnummer(s) bij de hand tijdens de kijkdag\, zonder kavelnummer(s) kunnen wij je niet van dienst zijn. \nOphaaldag\n7 april 2022 van 10:30 tot 16:00 uur
URL:https://veilinghuizen.nl/veilingagenda/bva-auctions-art-5/
LOCATION:BVA Auctions /ART\, Kryptonweg 8\, Amersfoort\, Utrecht\, 3812 RZ\, Nederland
END:VEVENT
BEGIN:VEVENT
DTSTART;VALUE=DATE:20220321
DTEND;VALUE=DATE:20220322
DTSTAMP:20260422T221855
CREATED:20220217T105304Z
LAST-MODIFIED:20220217T105304Z
UID:7051-1647820800-1647907199@veilinghuizen.nl
SUMMARY:Kunstveiling.nl
DESCRIPTION:ATP special
URL:https://veilinghuizen.nl/veilingagenda/kunstveiling-nl-151/
LOCATION:Kunstveiling.nl\, Amsterdamseweg 136\, Amstelveen\, Noord-Holland\, 1182HJ\, Nederland
END:VEVENT
BEGIN:VEVENT
DTSTART;VALUE=DATE:20220322
DTEND;VALUE=DATE:20220328
DTSTAMP:20260422T221855
CREATED:20220120T152612Z
LAST-MODIFIED:20220120T152612Z
UID:6945-1647907200-1648425599@veilinghuizen.nl
SUMMARY:Oprechte Veiling
DESCRIPTION:Maart veiling \nVeilingdagen\n22 t/m 27 maart 2022 (onder voorbehoud) \nKijkdagen\n18 t/m 20 maart 2022 \nAfhalen en inleveren van goederen uitsluitend volgens afspraak!
URL:https://veilinghuizen.nl/veilingagenda/oprechte-veiling-25/
LOCATION:Oprechte Veiling\, Bilderdijkstraat 1A\, Haarlem\, Noord-Holland\, 2013 EG\, Nederland
END:VEVENT
BEGIN:VEVENT
DTSTART;VALUE=DATE:20220324
DTEND;VALUE=DATE:20220326
DTSTAMP:20260422T221855
CREATED:20220322T125111Z
LAST-MODIFIED:20220322T125111Z
UID:7133-1648080000-1648252799@veilinghuizen.nl
SUMMARY:BVA Auctions /ART
DESCRIPTION:Notarishuis Arnhem – Ophaalveiling \nVeilingdagen\n18 maart 2022 vanaf 12:00 uur t/m 28 maart 2022 tot 19:00 uur \nKijkdagen\n24 & 25 maart 2022 van 10:00 tot 16:00 uur \nWij adviseren je van de kijkdag gebruik te maken. Houd de kavelnummer(s) bij de hand tijdens de kijkdag\, zonder kavelnummer(s) kunnen wij je niet van dienst zijn. \nOphaaldagen\n30 maart t/m 1 april 2022 van 10.00 – 16.00 uur \nAdres\nNotarishuis Arnhem\nToekomst 4\n6921PW Duiven
URL:https://veilinghuizen.nl/veilingagenda/bva-auctions-art-4/
LOCATION:Notarishuis Arnhem\, Kryptonweg 8\, 3812 RZ\, Utrecht\, Amersfoort\, Nederland
END:VEVENT
BEGIN:VEVENT
DTSTART;VALUE=DATE:20220325
DTEND;VALUE=DATE:20220328
DTSTAMP:20260422T221855
CREATED:20211115T152525Z
LAST-MODIFIED:20211115T152525Z
UID:6749-1648166400-1648425599@veilinghuizen.nl
SUMMARY:Veilinghuis Onder de Boompjes
DESCRIPTION:Veiling Maart 2022 \nVeilingdagen\n25 t/m 27 maart 2022 \nKijkdagen\n19 t/m 25 maart 2022 \nInbreng op afspraak
URL:https://veilinghuizen.nl/veilingagenda/veilinghuis-onder-de-boompjes-28/
LOCATION:Veilinghuis Onder de Boompjes\, Nieuwstraat 38\, Leiden\, Zuid-Holland\, 2312 KC\, Nederland
END:VEVENT
BEGIN:VEVENT
DTSTART;VALUE=DATE:20220325
DTEND;VALUE=DATE:20220326
DTSTAMP:20260422T221855
CREATED:20220322T124657Z
LAST-MODIFIED:20220322T124657Z
UID:7124-1648166400-1648252799@veilinghuizen.nl
SUMMARY:BVA Auctions /ART
DESCRIPTION:Taxatiemiddag Nijmegen \nBent u in het bezit van een vermeende Israëls? Of heeft u een ander kunstobject in uw eigendom waarvan u vermoedt dat het van waarde is? Kom dan vrijdagmiddag 25 maart 2022 naar het Huis van de Nijmeegse geschiedenis voor de HvdNG -Taxatiedag\, voor een op waarde schatting van uw kostbaarheden. \nWanneer\n25 maart 2022 van 13.00 – 17.00 uur \nLocatie\nHuis van de Nijmeegse Geschiedenis\nMariënburg 26\n6511 PS Nijmegen
URL:https://veilinghuizen.nl/veilingagenda/bva-auctions-art/
LOCATION:BVA Auctions / ART Huis van de Nijmeegse Geschiedenis\, Mariënburg 26\, Nijmegen\, Gelderland\, 6511 PS\, Nederland
END:VEVENT
BEGIN:VEVENT
DTSTART;VALUE=DATE:20220328
DTEND;VALUE=DATE:20220405
DTSTAMP:20260422T221855
CREATED:20220214T100856Z
LAST-MODIFIED:20220214T100856Z
UID:7017-1648425600-1649116799@veilinghuizen.nl
SUMMARY:Veilinghuis Korendijk
DESCRIPTION:Maart/april veiling \nVeilingdagen\n28 maart t/m 4 april 2022 \nKijkdagen\nVrijdag 1 april | 10.00 – 17.00 uur\nZaterdag 2 april | 10.00 – 17.00 uur\nMaandag 4 april | 10.00 – 17.00 uur \nU hoeft voor de aankomende kijkdagen geen afspraak te maken. Afstand houden is door de ruime afmetingen van het pand goed mogelijk. \nAdres: Kleverskerkseweg 53c\, Middelburg
URL:https://veilinghuizen.nl/veilingagenda/veilinghuis-korendijk-11/
LOCATION:Veilinghuis Korendijk\, Korendijk 28\, Middelburg\, Zeeland\, 4331 HP\, Nederland
END:VEVENT
BEGIN:VEVENT
DTSTART;VALUE=DATE:20220328
DTEND;VALUE=DATE:20220329
DTSTAMP:20260422T221855
CREATED:20220214T103257Z
LAST-MODIFIED:20220214T103257Z
UID:7035-1648425600-1648511999@veilinghuizen.nl
SUMMARY:Ald Fryslân hét veilinghuis
DESCRIPTION:Kunst- en antiekveiling maart 2022 \nVeilingdagen\nVanaf 28 maart 2022\, nadere informatie volgt.  \nKijkdagen\n25\, 26 en 27 maart 2022 \nDe inbreng en taxatie van goederen voor de veiling van maart 2022 \nInbrengdata 17 januari t/m 24 februari | Maandags tot en met donderdags van 9:30 tot 12:15 uur. \nBent u in goede gezondheid dan kunt op deze tijden bij ons terecht met uw goederen om aan te bieden voor de veiling. Vrijdags en in het weekend is geen inbreng mogelijk.
URL:https://veilinghuizen.nl/veilingagenda/ald-fryslan-het-veilinghuis-19/
LOCATION:Ald Fryslân hét veilinghuis\, De Lange Baan 2b\, Wommels\, 8731 DZ\, Nederland
END:VEVENT
BEGIN:VEVENT
DTSTART;VALUE=DATE:20220328
DTEND;VALUE=DATE:20220329
DTSTAMP:20260422T221855
CREATED:20220217T105346Z
LAST-MODIFIED:20220217T105346Z
UID:7053-1648425600-1648511999@veilinghuizen.nl
SUMMARY:Kunstveiling.nl
DESCRIPTION:Schilderkunst (min 350 euro doek + Paneel)
URL:https://veilinghuizen.nl/veilingagenda/kunstveiling-nl-152/
LOCATION:Kunstveiling.nl\, Amsterdamseweg 136\, Amstelveen\, Noord-Holland\, 1182HJ\, Nederland
END:VEVENT
BEGIN:VEVENT
DTSTART;VALUE=DATE:20220328
DTEND;VALUE=DATE:20220406
DTSTAMP:20260422T221855
CREATED:20220315T125219Z
LAST-MODIFIED:20220315T125219Z
UID:7084-1648425600-1649203199@veilinghuizen.nl
SUMMARY:Zeeuws Veilinghuis
DESCRIPTION:Themaveiling zakhorloges \nVeilingdagen\n28 maart t/m 5 april 2022 \nKijkdagen\nVrijdag 1 april | 10.00 – 17.00 uur\nZaterdag 2 april | 10.00 – 17.00 uur\nMaandag 4 april | 10.00 – 17.00 uur \nU hoeft voor de aankomende kijkdagen geen afspraak te maken. Afstand houden is door de ruime afmetingen van het pand goed mogelijk.
URL:https://veilinghuizen.nl/veilingagenda/zeeuws-veilinghuis-13/
LOCATION:Zeeuws Veilinghuis\, Herengracht 74\, Middelburg\, Zeeland\, 4331 PX\, Nederland
END:VEVENT
BEGIN:VEVENT
DTSTART;VALUE=DATE:20220328
DTEND;VALUE=DATE:20220330
DTSTAMP:20260422T221855
CREATED:20220315T131740Z
LAST-MODIFIED:20220315T131740Z
UID:7104-1648425600-1648598399@veilinghuizen.nl
SUMMARY:Veilinghuis Klinkhamer
DESCRIPTION:Veiling 38 \nVeilingdagen\n28 & 29 maart 2022 \nBiedingen zijn mogelijk vanaf 18 maart 2022
URL:https://veilinghuizen.nl/veilingagenda/veilinghuis-klinkhamer-13/
LOCATION:Klinkhamer Veilinghuis\, Vechtstraat 45\, Groningen\, Groningen\, 9712 CT\, Nederland
END:VEVENT
BEGIN:VEVENT
DTSTART;VALUE=DATE:20220330
DTEND;VALUE=DATE:20220331
DTSTAMP:20260422T221855
CREATED:20211214T104405Z
LAST-MODIFIED:20211214T104405Z
UID:6850-1648598400-1648684799@veilinghuizen.nl
SUMMARY:Vendu Rotterdam
DESCRIPTION:Algemene veiling maart 2022 \nVeilingdag\n30 maart 2022 \nKijkdagen\n28 en 29 maart 2022
URL:https://veilinghuizen.nl/veilingagenda/vendu-rotterdam-17/
LOCATION:Vendu Rotterdam\, Kipstraat 54\, Rotterdam\, Zuid-Holland\, 3011 RT\, Nederland
END:VEVENT
END:VCALENDAR